Workbook

Sheet Сведения о независимой оценке
A1: Количественные результаты независимой оценки качества оказания услуг организациями
A3: Публично-правовое образование
A4: Сфера деятельности
A5: Период проведения независимой оценки
A6: Основание для определения перечня показателей | C6: Единый порядок расчета (Приказ Минтруда № 344н от 31.05.2018 г.)
A8: Пожалуйста, введите значения выполнения индикаторов
A9: № п.п. | B9: Организация | C9: Численность получателей услуг организации | D9: Количество респондентов | E9: Доля респондентов | F9: Общие критерии оценки
F10: 1 - критерий открытости и доступности информации об организации | U10: 2 - критерий комфортности условий предоставления услуги, в том числе время ожидания ее предоставления | AA10: 3 - критерий доступности услуг для инвалидов | AJ10: 4 - критерий доброжелательности, вежливости работников организации | AS10: 5 - критерий удовлетворенности условиями оказания услуг
F11: Показатели | U11: Показатели | AA11: Показатели | AJ11: Показатели | AS11: Показатели
F12: 1.1 Соответствие информации о деятельности организации социальной сферы, размещенной на общедоступных информационных ресурсах, ее содержанию и порядку (форме), установленным законодательными и иными нормативными правовыми актами Российской Федерации | L12: 1.2 Наличие на официальном сайте организации социальной сферы информации о дистанционных способах обратной связи и взаимодействия с получателями услуг и их функционирование | O12: 1.3 Доля получателей услуг, удовлетворенных открытостью, полнотой и доступностью информации о деятельности организации социальной сферы | U12: 2.1 Обеспечение в организации социальной сферы комфортных условий предоставления услуг | X12: 2.3 Доля получателей услуг удовлетворенных комфортностью предоставления услуг организацией социальной сферы | AA12: 3.1 Оборудование помещений организации социальной сферы и прилегающей к ней территории с учетом доступности для инвалидов | AD12: 3.2 Обеспечение в организации социальной сферы условий доступности, позволяющих инвалидам получать услуги наравне с другими | AG12: 3.3 Доля получателей услуг, удовлетворенных доступностью услуг для инвалидов | AJ12: 4.1 Доля получателей услуг, удовлетворенных доброжелательностью, вежливостью работников организации социальной сферы, обеспечивающих первичный контакт и информирование получателя услуги при непосредственном обращении в организацию социальной сферы | AM12: 4.2 Доля получателей услуг, удовлетворенных доброжелательностью, вежливостью работников организации социальной сферы, обеспечивающих непосредственное оказание услуги при обращении в организацию социальной сферы | AP12: 4.3 Доля получателей услуг, удовлетворенных доброжелательностью, вежливостью работников организации социальной сферы при использовании дистанционных форм взаимодействия | AS12: 5.1 Доля получателей услуг, которые готовы рекомендовать организацию социальной сферы родственникам и знакомым (могли бы ее рекомендовать, если бы была возможность выбора организации социальной сферы) | AV12: 5.2 Доля получателей услуг, удовлетворенных организационными условиями предоставления услуг | AY12: 5.3 Доля получателей услуг, удовлетворенных в целом условиями оказания услуг в организации социальной сферы
F13: 1.1.1 - Соответствие информации о деятельности организации социальной сферы, размещенной на информационных стендах в помещении организации социальной сферы, ее содержанию и порядку (форме), установленным нормативными правовыми актами. | I13: 1.1.2 - Соответствие информации о деятельности организации социальной сферы, размещенной на официальном сайте организации социальной сферы, ее содержанию и порядку (форме), установленным нормативными правовыми актами. | L13: 1.2.1 - Наличие и функционирование на официальном сайте организации информации о дистанционных способах взаимодействия с получателями услуг: телефона; электронной почты; электронных сервисов (форма для подачи электронного обращения (жалобы, предложения), получение консультации по оказываемым услугам и пр.); раздела «Часто задаваемые вопросы»; технической возможности выражения получателем услуг мнения о качестве условий оказания услуг организацией социальной сферы (наличие анкеты для опроса граждан или гиперссылки на нее); иного дистанционного способа взаимодействия. | O13: 1.3.1 - Удовлетворенность качеством, полнотой и доступностью информации о деятельности организации социальной сферы, размещенной на информационных стендах в помещении организации социальной сферы. | R13: 1.3.2 - Удовлетворенность качеством, полнотой и доступностью информации о деятельности организации социальной сферы, размещенной на официальном сайте организации социальной сферы в сети «Интернет». | U13: 2.1.1 - Наличие комфортных условий для предоставления услуг, например: наличие комфортной зоны отдыха (ожидания), оборудованной соответствующей мебелью; наличие и понятность навигации внутри организации социальной сферы; наличие и доступность питьевой воды; наличие и доступность санитарно-гигиенических помещений; санитарное состояние помещений организации социальной сферы; транспортная доступность (возможность доехать до организации социальной сферы на общественном транспорте, наличие парковки); доступность записи на получение услуги (по телефону, на официальном сайте организации социальной сферы в сети Интернет, посредством Единого портала государственных и муниципальных услуг, при личном посещении в регистратуре или у специалиста организации социальной сферы и пр.); иные параметры комфортных условий, установленные ведомственным актом уполномоченного федерального органа исполнительной власти. | X13: 2.3.1 - Удовлетворенность комфортностью предоставления услуг организацией социальной сферы. | AA13: 3.1.1 - Наличие в помещениях организации социальной сферы и на прилегающей к ней территории: оборудованных входных групп пандусами (подъемными платформами); выделенных стоянок для автотранспортных средств инвалидов; адаптированных лифтов, поручней, расширенных дверных проемов; сменных кресел-колясок; специально оборудованных санитарно-гигиенических помещений в организации социальной сферы. | AD13: 3.2.1 - Наличие в организации социальной сферы условий доступности, позволяющих инвалидам получать услуги наравне с другими: дублирование для инвалидов по слуху и зрению звуковой и зрительной информации; дублирование надписей, знаков и иной текстовой и графической информации знаками, выполненными рельефно-точечным шрифтом Брайля; возможность предоставления инвалидам по слуху (слуху и зрению) услуг сурдопереводчика (тифлосурдопереводчика); наличие альтернативной версии официального сайта организации социальной сферы в сети Интернет для инвалидов по зрению; помощь, оказываемая работниками организации социальной сферы, прошедшими необходимое обучение (инструктирование) по сопровождению инвалидов в помещениях организации социальной сферы и на прилегающей территории; наличие возможности предоставления услуги в дистанционном режиме или на дому. | AG13: 3.3.1 - Удовлетворенность доступностью услуг для инвалидов. | AJ13: 4.1.1 - Удовлетворенность доброжелательностью, вежливостью работников организации социальной сферы, обеспечивающих первичный контакт и информирование получателя услуги (работники справочной, приемного отделения, регистратуры, кассы и прочие работники) при непосредственном обращении в организацию социальной сферы. | AM13: 4.2.1 - Удовлетворенность доброжелательностью, вежливостью работников организации социальной сферы, обеспечивающих непосредственное оказание услуги (врачи, социальные работники, работники, осуществляющие экспертно-реабилитационную диагностику, преподаватели, тренеры, инструкторы, библиотекари, экскурсоводы и прочие работники) при обращении в организацию социальной сферы. | AP13: 4.3.1 - Удовлетворенность доброжелательностью, вежливостью работников организации социальной сферы при использовании дистанционных форм взаимодействия (по телефону, по электронной почте, с помощью электронных сервисов (подачи электронного обращения (жалобы, предложения), получения консультации по оказываемым услугам и пр.). | AS13: 5.1.1 - Готовность получателей услуг рекомендовать организацию социальной сферы родственникам и знакомым. | AV13: 5.2.1 - Удовлетворенность получателей услуг организационными условиями оказания услуг, например: наличием и понятностью навигации внутри организации социальной сферы; графиком работы организации социальной сферы (подразделения, отдельных специалистов, графиком прихода социального работника на дом и пр.). | AY13: 5.3.1 - Удовлетворенность получателей услуг в целом условиями оказания услуг в организации социальной сферы.
F14: Наименование индикатора | G14: Выполнение индикатора | I14: Наименование индикатора | J14: Выполнение индикатора | L14: Наименование индикатора | M14: Выполнение индикатора | O14: Наименование индикатора | P14: Выполнение индикатора | R14: Наименование индикатора | S14: Выполнение индикатора | U14: Наименование индикатора | V14: Выполнение индикатора | X14: Наименование индикатора | Y14: Выполнение индикатора | AA14: Наименование индикатора | AB14: Выполнение индикатора | AD14: Наименование индикатора | AE14: Выполнение индикатора | AG14: Наименование индикатора | AH14: Выполнение индикатора | AJ14: Наименование индикатора | AK14: Выполнение индикатора | AM14: Наименование индикатора | AN14: Выполнение индикатора | AP14: Наименование индикатора | AQ14: Выполнение индикатора | AS14: Наименование индикатора | AT14: Выполнение индикатора | AV14: Наименование индикатора | AW14: Выполнение индикатора | AY14: Наименование индикатора | AZ14: Выполнение индикатора
A15: 1 | B15: МБУ "ЦБС Лоухского муниципального района" | C15: 2288 | D15: 986 | E15: =D15/C15 -> 0.43094406 | F15: объем информации (количество материалов/единиц информации), размещенной на информационных стендах в помещении организации по отношению к количеству материалов, размещение которых установлено нормативными правовыми актами (Истенд) | G15: 19 | H15: 20 | I15: объем информации (количество материалов/единиц информации), размещенной на официальном сайте организации по отношению к количеству материалов, размещение которых установлено нормативными правовыми актами (Исайт) | J15: 19 | K15: 20 | L15: в наличии и функционируют более трех дистанционных способов взаимодействия | M15: 4 | N15: =INDEX(Индикаторы!$N$15:$N$17,MATCH('Сведения о независимой оценке'!L15,Индикаторы!$L$15:$L$17,0)) -> 100 | O15: число получателей услуг, удовлетворенных качеством, полнотой и доступностью информации о деятельности организации социальной сферы, размещенной на информационных стендах в помещении организации социальной сферы по отношению к числу опрошенных получателей услуг, ответивших на соответствующий вопрос анкеты (Устенд) | P15: 780 | Q15: 784 | R15: число получателей услуг, удовлетворенных качеством, полнотой и доступностью информации о деятельности организации социальной сферы, размещенной на официальном сайте организации социальной сферы по отношению к числу опрошенных получателей услуг, ответивших на соответствующий вопрос анкеты (Усайт) | S15: 786 | T15: 801 | U15: наличие пяти и более комфортных условий для предоставления услуг | V15: 7 | W15: =INDEX(Индикаторы!$W$15:$W$17,MATCH('Сведения о независимой оценке'!U15,Индикаторы!$U$15:$U$17,0)) -> 100 | X15: число получателей услуг, удовлетворенных комфортностью предоставления услуг организацией социальной сферы (Укомф), по отношению к числу опрошенных получателей услуг, ответивших на данный вопрос (Чобщ) | Y15: 885 | Z15: 986 | AA15: отсутствуют условия доступности для инвалидов | AB15: 0 | AC15: =INDEX(Индикаторы!$AC$15:$AC$17,MATCH('Сведения о независимой оценке'!AA15,Индикаторы!$AA$15:$AA$17,0)) -> 0 | AD15: количество условий доступности, позволяющих инвалидам получать услуги наравне с другими | AE15: 1 | AF15: =INDEX(Индикаторы!$AF$15:$AF$17,MATCH('Сведения о независимой оценке'!AD15,Индикаторы!$AD$15:$AD$17,0)) -> 20 | AG15: число получателей услуг-инвалидов, удовлетворенных доступностью услуг для инвалидов (Удост) , по отношению к числу опрошенных получателей услуг- инвалидов, ответивших на соответствующий вопрос анкеты (Чинв) | AH15: 66 | AI15: 75 | AJ15: число получателей услуг, удовлетворенных доброжелательностью, вежливостью работников организации социальной сферы, обеспечивающих первичный контакт и информирование получателя услуги (Уперв.конт), по отношению к числу опрошенных получателей услуг, ответивших на соответствующий вопрос анкеты ( Чобщ) | AK15: 983 | AL15: 986 | AM15: число получателей услуг, удовлетворенных доброжелательностью, вежливостью работников организации социальной сферы, обеспечивающих непосредственное оказание услуги (Уоказ.услуг), по отношению к числу опрошенных получателей услуг, ответивших на соответствующий вопрос анкеты ( Чобщ) | AN15: 984 | AO15: 986 | AP15: число получателей услуг, удовлетворенных доброжелательностью, вежливостью работников организации социальной сферы при использовании дистанционных форм взаимодействия (Увежл.дист), по отношению к числу опрошенных получателей услуг, ответивших на соответствующий вопрос анкеты (Чобщ) | AQ15: 836 | AR15: 840 | AS15: число получателей услуг, которые готовы рекомендовать организацию родственникам и знакомым (могли бы ее рекомендовать, если бы была возможность выбора организации) (Уреком), по отношению к числу опрошенных получателей услуг, ответивших на соответствующий вопрос анкеты (Чобщ) | AT15: 982 | AU15: 986 | AV15: число получателей услуг, удовлетворенных организационными условиями предоставления услуг (Уорг.усл), по отношению к числу опрошенных получателей услуг ответивших на соответствующий вопрос анкеты (Чобщ) | AW15: 976 | AX15: 986 | AY15: число получателей услуг, удовлетворенных в целом условиями оказания услуг в организации социальной сферы (Ууд), по отношению к числу опрошенных получателей услуг, ответивших на соответствующий вопрос анкеты (Чобщ) | AZ15: 984 | BA15: 986
A16: 2 | B16: МБУ "Лоухский ДК" Лоухского городского поселения | C16: 1250 | D16: 725 | E16: =D16/C16 -> 0.58 | F16: объем информации (количество материалов/единиц информации), размещенной на информационных стендах в помещении организации по отношению к количеству материалов, размещение которых установлено нормативными правовыми актами (Истенд) | G16: 14 | H16: 20 | I16: объем информации (количество материалов/единиц информации), размещенной на официальном сайте организации по отношению к количеству материалов, размещение которых установлено нормативными правовыми актами (Исайт) | J16: 14 | K16: 20 | L16: в наличии и функционируют более трех дистанционных способов взаимодействия | M16: 4 | N16: =INDEX(Индикаторы!$N$15:$N$17,MATCH('Сведения о независимой оценке'!L16,Индикаторы!$L$15:$L$17,0)) -> 100 | O16: число получателей услуг, удовлетворенных качеством, полнотой и доступностью информации о деятельности организации социальной сферы, размещенной на информационных стендах в помещении организации социальной сферы по отношению к числу опрошенных получателей услуг, ответивших на соответствующий вопрос анкеты (Устенд) | P16: 657 | Q16: 661 | R16: число получателей услуг, удовлетворенных качеством, полнотой и доступностью информации о деятельности организации социальной сферы, размещенной на официальном сайте организации социальной сферы по отношению к числу опрошенных получателей услуг, ответивших на соответствующий вопрос анкеты (Усайт) | S16: 620 | T16: 636 | U16: наличие пяти и более комфортных условий для предоставления услуг | V16: 7 | W16: =INDEX(Индикаторы!$W$15:$W$17,MATCH('Сведения о независимой оценке'!U16,Индикаторы!$U$15:$U$17,0)) -> 100 | X16: число получателей услуг, удовлетворенных комфортностью предоставления услуг организацией социальной сферы (Укомф), по отношению к числу опрошенных получателей услуг, ответивших на данный вопрос (Чобщ) | Y16: 717 | Z16: 725 | AA16: отсутствуют условия доступности для инвалидов | AB16: 0 | AC16: =INDEX(Индикаторы!$AC$15:$AC$17,MATCH('Сведения о независимой оценке'!AA16,Индикаторы!$AA$15:$AA$17,0)) -> 0 | AD16: количество условий доступности, позволяющих инвалидам получать услуги наравне с другими | AE16: 1 | AF16: =INDEX(Индикаторы!$AF$15:$AF$17,MATCH('Сведения о независимой оценке'!AD16,Индикаторы!$AD$15:$AD$17,0)) -> 20 | AG16: число получателей услуг-инвалидов, удовлетворенных доступностью услуг для инвалидов (Удост) , по отношению к числу опрошенных получателей услуг- инвалидов, ответивших на соответствующий вопрос анкеты (Чинв) | AH16: 70 | AI16: 79 | AJ16: число получателей услуг, удовлетворенных доброжелательностью, вежливостью работников организации социальной сферы, обеспечивающих первичный контакт и информирование получателя услуги (Уперв.конт), по отношению к числу опрошенных получателей услуг, ответивших на соответствующий вопрос анкеты ( Чобщ) | AK16: 722 | AL16: 725 | AM16: число получателей услуг, удовлетворенных доброжелательностью, вежливостью работников организации социальной сферы, обеспечивающих непосредственное оказание услуги (Уоказ.услуг), по отношению к числу опрошенных получателей услуг, ответивших на соответствующий вопрос анкеты ( Чобщ) | AN16: 723 | AO16: 725 | AP16: число получателей услуг, удовлетворенных доброжелательностью, вежливостью работников организации социальной сферы при использовании дистанционных форм взаимодействия (Увежл.дист), по отношению к числу опрошенных получателей услуг, ответивших на соответствующий вопрос анкеты (Чобщ) | AQ16: 687 | AR16: 689 | AS16: число получателей услуг, которые готовы рекомендовать организацию родственникам и знакомым (могли бы ее рекомендовать, если бы была возможность выбора организации) (Уреком), по отношению к числу опрошенных получателей услуг, ответивших на соответствующий вопрос анкеты (Чобщ) | AT16: 724 | AU16: 725 | AV16: число получателей услуг, удовлетворенных организационными условиями предоставления услуг (Уорг.усл), по отношению к числу опрошенных получателей услуг ответивших на соответствующий вопрос анкеты (Чобщ) | AW16: 718 | AX16: 725 | AY16: число получателей услуг, удовлетворенных в целом условиями оказания услуг в организации социальной сферы (Ууд), по отношению к числу опрошенных получателей услуг, ответивших на соответствующий вопрос анкеты (Чобщ) | AZ16: 724 | BA16: 725
A17: 3 | B17: МБУ "Пяозерский ДК" | C17: 720 | D17: 720 | E17: =D17/C17 -> 1 | F17: объем информации (количество материалов/единиц информации), размещенной на информационных стендах в помещении организации по отношению к количеству материалов, размещение которых установлено нормативными правовыми актами (Истенд) | G17: 14 | H17: 20 | I17: объем информации (количество материалов/единиц информации), размещенной на официальном сайте организации по отношению к количеству материалов, размещение которых установлено нормативными правовыми актами (Исайт) | J17: 14 | K17: 20 | L17: в наличии и функционируют более трех дистанционных способов взаимодействия | M17: 4 | N17: =INDEX(Индикаторы!$N$15:$N$17,MATCH('Сведения о независимой оценке'!L17,Индикаторы!$L$15:$L$17,0)) -> 100 | O17: число получателей услуг, удовлетворенных качеством, полнотой и доступностью информации о деятельности организации социальной сферы, размещенной на информационных стендах в помещении организации социальной сферы по отношению к числу опрошенных получателей услуг, ответивших на соответствующий вопрос анкеты (Устенд) | P17: 704 | Q17: 707 | R17: число получателей услуг, удовлетворенных качеством, полнотой и доступностью информации о деятельности организации социальной сферы, размещенной на официальном сайте организации социальной сферы по отношению к числу опрошенных получателей услуг, ответивших на соответствующий вопрос анкеты (Усайт) | S17: 559 | T17: 574 | U17: наличие пяти и более комфортных условий для предоставления услуг | V17: 7 | W17: =INDEX(Индикаторы!$W$15:$W$17,MATCH('Сведения о независимой оценке'!U17,Индикаторы!$U$15:$U$17,0)) -> 100 | X17: число получателей услуг, удовлетворенных комфортностью предоставления услуг организацией социальной сферы (Укомф), по отношению к числу опрошенных получателей услуг, ответивших на данный вопрос (Чобщ) | Y17: 720 | Z17: 720 | AA17: отсутствуют условия доступности для инвалидов | AB17: 0 | AC17: =INDEX(Индикаторы!$AC$15:$AC$17,MATCH('Сведения о независимой оценке'!AA17,Индикаторы!$AA$15:$AA$17,0)) -> 0 | AD17: отсутствуют условия доступности, позволяющие инвалидам получать услуги наравне с другими | AE17: 0 | AF17: =INDEX(Индикаторы!$AF$15:$AF$17,MATCH('Сведения о независимой оценке'!AD17,Индикаторы!$AD$15:$AD$17,0)) -> 0 | AG17: число получателей услуг-инвалидов, удовлетворенных доступностью услуг для инвалидов (Удост) , по отношению к числу опрошенных получателей услуг- инвалидов, ответивших на соответствующий вопрос анкеты (Чинв) | AH17: 233 | AI17: 248 | AJ17: число получателей услуг, удовлетворенных доброжелательностью, вежливостью работников организации социальной сферы, обеспечивающих первичный контакт и информирование получателя услуги (Уперв.конт), по отношению к числу опрошенных получателей услуг, ответивших на соответствующий вопрос анкеты ( Чобщ) | AK17: 720 | AL17: 720 | AM17: число получателей услуг, удовлетворенных доброжелательностью, вежливостью работников организации социальной сферы, обеспечивающих непосредственное оказание услуги (Уоказ.услуг), по отношению к числу опрошенных получателей услуг, ответивших на соответствующий вопрос анкеты ( Чобщ) | AN17: 719 | AO17: 720 | AP17: число получателей услуг, удовлетворенных доброжелательностью, вежливостью работников организации социальной сферы при использовании дистанционных форм взаимодействия (Увежл.дист), по отношению к числу опрошенных получателей услуг, ответивших на соответствующий вопрос анкеты (Чобщ) | AQ17: 585 | AR17: 589 | AS17: число получателей услуг, которые готовы рекомендовать организацию родственникам и знакомым (могли бы ее рекомендовать, если бы была возможность выбора организации) (Уреком), по отношению к числу опрошенных получателей услуг, ответивших на соответствующий вопрос анкеты (Чобщ) | AT17: 718 | AU17: 720 | AV17: число получателей услуг, удовлетворенных организационными условиями предоставления услуг (Уорг.усл), по отношению к числу опрошенных получателей услуг ответивших на соответствующий вопрос анкеты (Чобщ) | AW17: 716 | AX17: 720 | AY17: число получателей услуг, удовлетворенных в целом условиями оказания услуг в организации социальной сферы (Ууд), по отношению к числу опрошенных получателей услуг, ответивших на соответствующий вопрос анкеты (Чобщ) | AZ17: 718 | BA17: 720
A18: 4 | B18: МБУ "Кестеньгский дом культуры" | C18: 480 | D18: 192 | E18: =D18/C18 -> 0.4 | F18: объем информации (количество материалов/единиц информации), размещенной на информационных стендах в помещении организации по отношению к количеству материалов, размещение которых установлено нормативными правовыми актами (Истенд) | G18: 0 | H18: 20 | I18: объем информации (количество материалов/единиц информации), размещенной на официальном сайте организации по отношению к количеству материалов, размещение которых установлено нормативными правовыми актами (Исайт) | J18: 0 | K18: 20 | L18: отсутствуют или не функционируют дистанционные способы взаимодействия | M18: 0 | N18: =INDEX(Индикаторы!$N$15:$N$17,MATCH('Сведения о независимой оценке'!L18,Индикаторы!$L$15:$L$17,0)) -> 0 | O18: число получателей услуг, удовлетворенных качеством, полнотой и доступностью информации о деятельности организации социальной сферы, размещенной на информационных стендах в помещении организации социальной сферы по отношению к числу опрошенных получателей услуг, ответивших на соответствующий вопрос анкеты (Устенд) | P18: 182 | Q18: 192 | R18: число получателей услуг, удовлетворенных качеством, полнотой и доступностью информации о деятельности организации социальной сферы, размещенной на официальном сайте организации социальной сферы по отношению к числу опрошенных получателей услуг, ответивших на соответствующий вопрос анкеты (Усайт) | S18: 129 | T18: 139 | U18: наличие пяти и более комфортных условий для предоставления услуг | V18: 7 | W18: =INDEX(Индикаторы!$W$15:$W$17,MATCH('Сведения о независимой оценке'!U18,Индикаторы!$U$15:$U$17,0)) -> 100 | X18: число получателей услуг, удовлетворенных комфортностью предоставления услуг организацией социальной сферы (Укомф), по отношению к числу опрошенных получателей услуг, ответивших на данный вопрос (Чобщ) | Y18: 175 | Z18: 192 | AA18: отсутствуют условия доступности для инвалидов | AB18: 0 | AC18: =INDEX(Индикаторы!$AC$15:$AC$17,MATCH('Сведения о независимой оценке'!AA18,Индикаторы!$AA$15:$AA$17,0)) -> 0 | AD18: отсутствуют условия доступности, позволяющие инвалидам получать услуги наравне с другими | AE18: 0 | AF18: =INDEX(Индикаторы!$AF$15:$AF$17,MATCH('Сведения о независимой оценке'!AD18,Индикаторы!$AD$15:$AD$17,0)) -> 0 | AG18: число получателей услуг-инвалидов, удовлетворенных доступностью услуг для инвалидов (Удост) , по отношению к числу опрошенных получателей услуг- инвалидов, ответивших на соответствующий вопрос анкеты (Чинв) | AH18: 60 | AI18: 60 | AJ18: число получателей услуг, удовлетворенных доброжелательностью, вежливостью работников организации социальной сферы, обеспечивающих первичный контакт и информирование получателя услуги (Уперв.конт), по отношению к числу опрошенных получателей услуг, ответивших на соответствующий вопрос анкеты ( Чобщ) | AK18: 185 | AL18: 192 | AM18: число получателей услуг, удовлетворенных доброжелательностью, вежливостью работников организации социальной сферы, обеспечивающих непосредственное оказание услуги (Уоказ.услуг), по отношению к числу опрошенных получателей услуг, ответивших на соответствующий вопрос анкеты ( Чобщ) | AN18: 189 | AO18: 192 | AP18: число получателей услуг, удовлетворенных доброжелательностью, вежливостью работников организации социальной сферы при использовании дистанционных форм взаимодействия (Увежл.дист), по отношению к числу опрошенных получателей услуг, ответивших на соответствующий вопрос анкеты (Чобщ) | AQ18: 132 | AR18: 132 | AS18: число получателей услуг, которые готовы рекомендовать организацию родственникам и знакомым (могли бы ее рекомендовать, если бы была возможность выбора организации) (Уреком), по отношению к числу опрошенных получателей услуг, ответивших на соответствующий вопрос анкеты (Чобщ) | AT18: 175 | AU18: 192 | AV18: число получателей услуг, удовлетворенных организационными условиями предоставления услуг (Уорг.усл), по отношению к числу опрошенных получателей услуг ответивших на соответствующий вопрос анкеты (Чобщ) | AW18: 182 | AX18: 192 | AY18: число получателей услуг, удовлетворенных в целом условиями оказания услуг в организации социальной сферы (Ууд), по отношению к числу опрошенных получателей услуг, ответивших на соответствующий вопрос анкеты (Чобщ) | AZ18: 182 | BA18: 192
A19: 5 | B19: МБУ "Горняк" | C19: 980 | D19: 392 | E19: =D19/C19 -> 0.4 | F19: объем информации (количество материалов/единиц информации), размещенной на информационных стендах в помещении организации по отношению к количеству материалов, размещение которых установлено нормативными правовыми актами (Истенд) | G19: 0 | H19: 20 | I19: объем информации (количество материалов/единиц информации), размещенной на официальном сайте организации по отношению к количеству материалов, размещение которых установлено нормативными правовыми актами (Исайт) | J19: 0 | K19: 20 | L19: отсутствуют или не функционируют дистанционные способы взаимодействия | M19: 0 | N19: =INDEX(Индикаторы!$N$15:$N$17,MATCH('Сведения о независимой оценке'!L19,Индикаторы!$L$15:$L$17,0)) -> 0 | O19: число получателей услуг, удовлетворенных качеством, полнотой и доступностью информации о деятельности организации социальной сферы, размещенной на информационных стендах в помещении организации социальной сферы по отношению к числу опрошенных получателей услуг, ответивших на соответствующий вопрос анкеты (Устенд) | P19: 375 | Q19: 375 | R19: число получателей услуг, удовлетворенных качеством, полнотой и доступностью информации о деятельности организации социальной сферы, размещенной на официальном сайте организации социальной сферы по отношению к числу опрошенных получателей услуг, ответивших на соответствующий вопрос анкеты (Усайт) | S19: 244 | T19: 253 | U19: наличие пяти и более комфортных условий для предоставления услуг | V19: 7 | W19: =INDEX(Индикаторы!$W$15:$W$17,MATCH('Сведения о независимой оценке'!U19,Индикаторы!$U$15:$U$17,0)) -> 100 | X19: число получателей услуг, удовлетворенных комфортностью предоставления услуг организацией социальной сферы (Укомф), по отношению к числу опрошенных получателей услуг, ответивших на данный вопрос (Чобщ) | Y19: 375 | Z19: 392 | AA19: отсутствуют условия доступности для инвалидов | AB19: 0 | AC19: =INDEX(Индикаторы!$AC$15:$AC$17,MATCH('Сведения о независимой оценке'!AA19,Индикаторы!$AA$15:$AA$17,0)) -> 0 | AD19: отсутствуют условия доступности, позволяющие инвалидам получать услуги наравне с другими | AE19: 0 | AF19: =INDEX(Индикаторы!$AF$15:$AF$17,MATCH('Сведения о независимой оценке'!AD19,Индикаторы!$AD$15:$AD$17,0)) -> 0 | AG19: число получателей услуг-инвалидов, удовлетворенных доступностью услуг для инвалидов (Удост) , по отношению к числу опрошенных получателей услуг- инвалидов, ответивших на соответствующий вопрос анкеты (Чинв) | AH19: 44 | AI19: 52 | AJ19: число получателей услуг, удовлетворенных доброжелательностью, вежливостью работников организации социальной сферы, обеспечивающих первичный контакт и информирование получателя услуги (Уперв.конт), по отношению к числу опрошенных получателей услуг, ответивших на соответствующий вопрос анкеты ( Чобщ) | AK19: 392 | AL19: 392 | AM19: число получателей услуг, удовлетворенных доброжелательностью, вежливостью работников организации социальной сферы, обеспечивающих непосредственное оказание услуги (Уоказ.услуг), по отношению к числу опрошенных получателей услуг, ответивших на соответствующий вопрос анкеты ( Чобщ) | AN19: 392 | AO19: 392 | AP19: число получателей услуг, удовлетворенных доброжелательностью, вежливостью работников организации социальной сферы при использовании дистанционных форм взаимодействия (Увежл.дист), по отношению к числу опрошенных получателей услуг, ответивших на соответствующий вопрос анкеты (Чобщ) | AQ19: 305 | AR19: 305 | AS19: число получателей услуг, которые готовы рекомендовать организацию родственникам и знакомым (могли бы ее рекомендовать, если бы была возможность выбора организации) (Уреком), по отношению к числу опрошенных получателей услуг, ответивших на соответствующий вопрос анкеты (Чобщ) | AT19: 383 | AU19: 392 | AV19: число получателей услуг, удовлетворенных организационными условиями предоставления услуг (Уорг.усл), по отношению к числу опрошенных получателей услуг ответивших на соответствующий вопрос анкеты (Чобщ) | AW19: 392 | AX19: 392 | AY19: число получателей услуг, удовлетворенных в целом условиями оказания услуг в организации социальной сферы (Ууд), по отношению к числу опрошенных получателей услуг, ответивших на соответствующий вопрос анкеты (Чобщ) | AZ19: 392 | BA19: 392
A20: 6 | B20: МБУК "СДК "Очаг"" | C20: 62 | D20: 42 | E20: =D20/C20 -> 0.67741935 | F20: объем информации (количество материалов/единиц информации), размещенной на информационных стендах в помещении организации по отношению к количеству материалов, размещение которых установлено нормативными правовыми актами (Истенд) | G20: 0 | H20: 20 | I20: объем информации (количество материалов/единиц информации), размещенной на официальном сайте организации по отношению к количеству материалов, размещение которых установлено нормативными правовыми актами (Исайт) | J20: 0 | K20: 20 | L20: отсутствуют или не функционируют дистанционные способы взаимодействия | M20: 0 | N20: =INDEX(Индикаторы!$N$15:$N$17,MATCH('Сведения о независимой оценке'!L20,Индикаторы!$L$15:$L$17,0)) -> 0 | O20: число получателей услуг, удовлетворенных качеством, полнотой и доступностью информации о деятельности организации социальной сферы, размещенной на информационных стендах в помещении организации социальной сферы по отношению к числу опрошенных получателей услуг, ответивших на соответствующий вопрос анкеты (Устенд) | P20: 26 | Q20: 26 | R20: число получателей услуг, удовлетворенных качеством, полнотой и доступностью информации о деятельности организации социальной сферы, размещенной на официальном сайте организации социальной сферы по отношению к числу опрошенных получателей услуг, ответивших на соответствующий вопрос анкеты (Усайт) | S20: 25 | T20: 25 | U20: наличие пяти и более комфортных условий для предоставления услуг | V20: 7 | W20: =INDEX(Индикаторы!$W$15:$W$17,MATCH('Сведения о независимой оценке'!U20,Индикаторы!$U$15:$U$17,0)) -> 100 | X20: число получателей услуг, удовлетворенных комфортностью предоставления услуг организацией социальной сферы (Укомф), по отношению к числу опрошенных получателей услуг, ответивших на данный вопрос (Чобщ) | Y20: 39 | Z20: 42 | AA20: отсутствуют условия доступности для инвалидов | AB20: 0 | AC20: =INDEX(Индикаторы!$AC$15:$AC$17,MATCH('Сведения о независимой оценке'!AA20,Индикаторы!$AA$15:$AA$17,0)) -> 0 | AD20: отсутствуют условия доступности, позволяющие инвалидам получать услуги наравне с другими | AE20: 0 | AF20: =INDEX(Индикаторы!$AF$15:$AF$17,MATCH('Сведения о независимой оценке'!AD20,Индикаторы!$AD$15:$AD$17,0)) -> 0 | AG20: число получателей услуг-инвалидов, удовлетворенных доступностью услуг для инвалидов (Удост) , по отношению к числу опрошенных получателей услуг- инвалидов, ответивших на соответствующий вопрос анкеты (Чинв) | AH20: 1 | AI20: 2 | AJ20: число получателей услуг, удовлетворенных доброжелательностью, вежливостью работников организации социальной сферы, обеспечивающих первичный контакт и информирование получателя услуги (Уперв.конт), по отношению к числу опрошенных получателей услуг, ответивших на соответствующий вопрос анкеты ( Чобщ) | AK20: 42 | AL20: 42 | AM20: число получателей услуг, удовлетворенных доброжелательностью, вежливостью работников организации социальной сферы, обеспечивающих непосредственное оказание услуги (Уоказ.услуг), по отношению к числу опрошенных получателей услуг, ответивших на соответствующий вопрос анкеты ( Чобщ) | AN20: 42 | AO20: 42 | AP20: число получателей услуг, удовлетворенных доброжелательностью, вежливостью работников организации социальной сферы при использовании дистанционных форм взаимодействия (Увежл.дист), по отношению к числу опрошенных получателей услуг, ответивших на соответствующий вопрос анкеты (Чобщ) | AQ20: 33 | AR20: 33 | AS20: число получателей услуг, которые готовы рекомендовать организацию родственникам и знакомым (могли бы ее рекомендовать, если бы была возможность выбора организации) (Уреком), по отношению к числу опрошенных получателей услуг, ответивших на соответствующий вопрос анкеты (Чобщ) | AT20: 42 | AU20: 42 | AV20: число получателей услуг, удовлетворенных организационными условиями предоставления услуг (Уорг.усл), по отношению к числу опрошенных получателей услуг ответивших на соответствующий вопрос анкеты (Чобщ) | AW20: 41 | AX20: 42 | AY20: число получателей услуг, удовлетворенных в целом условиями оказания услуг в организации социальной сферы (Ууд), по отношению к числу опрошенных получателей услуг, ответивших на соответствующий вопрос анкеты (Чобщ) | AZ20: 42 | BA20: 42
A21: 7 | B21: МБУК "Кристалл" | C21: 80 | D21: 73 | E21: =D21/C21 -> 0.9125 | F21: объем информации (количество материалов/единиц информации), размещенной на информационных стендах в помещении организации по отношению к количеству материалов, размещение которых установлено нормативными правовыми актами (Истенд) | G21: 0 | H21: 20 | I21: объем информации (количество материалов/единиц информации), размещенной на официальном сайте организации по отношению к количеству материалов, размещение которых установлено нормативными правовыми актами (Исайт) | J21: 0 | K21: 20 | L21: отсутствуют или не функционируют дистанционные способы взаимодействия | M21: 0 | N21: =INDEX(Индикаторы!$N$15:$N$17,MATCH('Сведения о независимой оценке'!L21,Индикаторы!$L$15:$L$17,0)) -> 0 | O21: число получателей услуг, удовлетворенных качеством, полнотой и доступностью информации о деятельности организации социальной сферы, размещенной на информационных стендах в помещении организации социальной сферы по отношению к числу опрошенных получателей услуг, ответивших на соответствующий вопрос анкеты (Устенд) | P21: 65 | Q21: 65 | R21: число получателей услуг, удовлетворенных качеством, полнотой и доступностью информации о деятельности организации социальной сферы, размещенной на официальном сайте организации социальной сферы по отношению к числу опрошенных получателей услуг, ответивших на соответствующий вопрос анкеты (Усайт) | S21: 33 | T21: 33 | U21: наличие пяти и более комфортных условий для предоставления услуг | V21: 7 | W21: =INDEX(Индикаторы!$W$15:$W$17,MATCH('Сведения о независимой оценке'!U21,Индикаторы!$U$15:$U$17,0)) -> 100 | X21: число получателей услуг, удовлетворенных комфортностью предоставления услуг организацией социальной сферы (Укомф), по отношению к числу опрошенных получателей услуг, ответивших на данный вопрос (Чобщ) | Y21: 69 | Z21: 73 | AA21: отсутствуют условия доступности для инвалидов | AB21: 0 | AC21: =INDEX(Индикаторы!$AC$15:$AC$17,MATCH('Сведения о независимой оценке'!AA21,Индикаторы!$AA$15:$AA$17,0)) -> 0 | AD21: отсутствуют условия доступности, позволяющие инвалидам получать услуги наравне с другими | AE21: 0 | AF21: =INDEX(Индикаторы!$AF$15:$AF$17,MATCH('Сведения о независимой оценке'!AD21,Индикаторы!$AD$15:$AD$17,0)) -> 0 | AG21: число получателей услуг-инвалидов, удовлетворенных доступностью услуг для инвалидов (Удост) , по отношению к числу опрошенных получателей услуг- инвалидов, ответивших на соответствующий вопрос анкеты (Чинв) | AH21: 14 | AI21: 16 | AJ21: число получателей услуг, удовлетворенных доброжелательностью, вежливостью работников организации социальной сферы, обеспечивающих первичный контакт и информирование получателя услуги (Уперв.конт), по отношению к числу опрошенных получателей услуг, ответивших на соответствующий вопрос анкеты ( Чобщ) | AK21: 73 | AL21: 73 | AM21: число получателей услуг, удовлетворенных доброжелательностью, вежливостью работников организации социальной сферы, обеспечивающих непосредственное оказание услуги (Уоказ.услуг), по отношению к числу опрошенных получателей услуг, ответивших на соответствующий вопрос анкеты ( Чобщ) | AN21: 73 | AO21: 73 | AP21: число получателей услуг, удовлетворенных доброжелательностью, вежливостью работников организации социальной сферы при использовании дистанционных форм взаимодействия (Увежл.дист), по отношению к числу опрошенных получателей услуг, ответивших на соответствующий вопрос анкеты (Чобщ) | AQ21: 45 | AR21: 45 | AS21: число получателей услуг, которые готовы рекомендовать организацию родственникам и знакомым (могли бы ее рекомендовать, если бы была возможность выбора организации) (Уреком), по отношению к числу опрошенных получателей услуг, ответивших на соответствующий вопрос анкеты (Чобщ) | AT21: 71 | AU21: 73 | AV21: число получателей услуг, удовлетворенных организационными условиями предоставления услуг (Уорг.усл), по отношению к числу опрошенных получателей услуг ответивших на соответствующий вопрос анкеты (Чобщ) | AW21: 73 | AX21: 73 | AY21: число получателей услуг, удовлетворенных в целом условиями оказания услуг в организации социальной сферы (Ууд), по отношению к числу опрошенных получателей услуг, ответивших на соответствующий вопрос анкеты (Чобщ) | AZ21: 73 | BA21: 73
A22: 8 | B22: МКУ "Сельский дом культуры п.Плотина" | C22: 151 | D22: 73 | E22: =D22/C22 -> 0.48344371 | F22: объем информации (количество материалов/единиц информации), размещенной на информационных стендах в помещении организации по отношению к количеству материалов, размещение которых установлено нормативными правовыми актами (Истенд) | G22: 0 | H22: 20 | I22: объем информации (количество материалов/единиц информации), размещенной на официальном сайте организации по отношению к количеству материалов, размещение которых установлено нормативными правовыми актами (Исайт) | J22: 0 | K22: 20 | L22: отсутствуют или не функционируют дистанционные способы взаимодействия | M22: 0 | N22: =INDEX(Индикаторы!$N$15:$N$17,MATCH('Сведения о независимой оценке'!L22,Индикаторы!$L$15:$L$17,0)) -> 0 | O22: число получателей услуг, удовлетворенных качеством, полнотой и доступностью информации о деятельности организации социальной сферы, размещенной на информационных стендах в помещении организации социальной сферы по отношению к числу опрошенных получателей услуг, ответивших на соответствующий вопрос анкеты (Устенд) | P22: 61 | Q22: 61 | R22: число получателей услуг, удовлетворенных качеством, полнотой и доступностью информации о деятельности организации социальной сферы, размещенной на официальном сайте организации социальной сферы по отношению к числу опрошенных получателей услуг, ответивших на соответствующий вопрос анкеты (Усайт) | S22: 58 | T22: 58 | U22: наличие пяти и более комфортных условий для предоставления услуг | V22: 7 | W22: =INDEX(Индикаторы!$W$15:$W$17,MATCH('Сведения о независимой оценке'!U22,Индикаторы!$U$15:$U$17,0)) -> 100 | X22: число получателей услуг, удовлетворенных комфортностью предоставления услуг организацией социальной сферы (Укомф), по отношению к числу опрошенных получателей услуг, ответивших на данный вопрос (Чобщ) | Y22: 73 | Z22: 73 | AA22: отсутствуют условия доступности для инвалидов | AB22: 0 | AC22: =INDEX(Индикаторы!$AC$15:$AC$17,MATCH('Сведения о независимой оценке'!AA22,Индикаторы!$AA$15:$AA$17,0)) -> 0 | AD22: отсутствуют условия доступности, позволяющие инвалидам получать услуги наравне с другими | AE22: 0 | AF22: =INDEX(Индикаторы!$AF$15:$AF$17,MATCH('Сведения о независимой оценке'!AD22,Индикаторы!$AD$15:$AD$17,0)) -> 0 | AG22: число получателей услуг-инвалидов, удовлетворенных доступностью услуг для инвалидов (Удост) , по отношению к числу опрошенных получателей услуг- инвалидов, ответивших на соответствующий вопрос анкеты (Чинв) | AH22: 12 | AI22: 12 | AJ22: число получателей услуг, удовлетворенных доброжелательностью, вежливостью работников организации социальной сферы, обеспечивающих первичный контакт и информирование получателя услуги (Уперв.конт), по отношению к числу опрошенных получателей услуг, ответивших на соответствующий вопрос анкеты ( Чобщ) | AK22: 73 | AL22: 73 | AM22: число получателей услуг, удовлетворенных доброжелательностью, вежливостью работников организации социальной сферы, обеспечивающих непосредственное оказание услуги (Уоказ.услуг), по отношению к числу опрошенных получателей услуг, ответивших на соответствующий вопрос анкеты ( Чобщ) | AN22: 73 | AO22: 73 | AP22: число получателей услуг, удовлетворенных доброжелательностью, вежливостью работников организации социальной сферы при использовании дистанционных форм взаимодействия (Увежл.дист), по отношению к числу опрошенных получателей услуг, ответивших на соответствующий вопрос анкеты (Чобщ) | AQ22: 59 | AR22: 59 | AS22: число получателей услуг, которые готовы рекомендовать организацию родственникам и знакомым (могли бы ее рекомендовать, если бы была возможность выбора организации) (Уреком), по отношению к числу опрошенных получателей услуг, ответивших на соответствующий вопрос анкеты (Чобщ) | AT22: 73 | AU22: 73 | AV22: число получателей услуг, удовлетворенных организационными условиями предоставления услуг (Уорг.усл), по отношению к числу опрошенных получателей услуг ответивших на соответствующий вопрос анкеты (Чобщ) | AW22: 73 | AX22: 73 | AY22: число получателей услуг, удовлетворенных в целом условиями оказания услуг в организации социальной сферы (Ууд), по отношению к числу опрошенных получателей услуг, ответивших на соответствующий вопрос анкеты (Чобщ) | AZ22: 73 | BA22: 73

Sheet Индикаторы
A9: № п.п. | B9: Организация | C9: Численность получателей услуг организации | D9: Количество респондентов | E9: Доля респондентов | F9: Общие критерии оценки
F10: 1 - критерий открытости и доступности информации об организации | U10: 2 - критерий комфортности условий предоставления услуги, в том числе время ожидания ее предоставления | AA10: 3 - критерий доступности услуг для инвалидов | AJ10: 4 - критерий доброжелательности, вежливости работников организации | AS10: 5 - критерий удовлетворенности условиями оказания услуг
F11: Показатели | U11: Показатели | AA11: Показатели | AJ11: Показатели | AS11: Показатели
F12: 1.1 Соответствие информации о деятельности организации социальной сферы, размещенной на общедоступных информационных ресурсах, ее содержанию и порядку (форме), установленным законодательными и иными нормативными правовыми актами Российской Федерации | L12: 1.2 Наличие на официальном сайте организации социальной сферы информации о дистанционных способах обратной связи и взаимодействия с получателями услуг и их функционирование | O12: 1.3 Доля получателей услуг, удовлетворенных открытостью, полнотой и доступностью информации о деятельности организации социальной сферы | U12: 2.1 Обеспечение в организации социальной сферы комфортных условий предоставления услуг | X12: 2.3 Доля получателей услуг удовлетворенных комфортностью предоставления услуг организацией социальной сферы | AA12: 3.1 Оборудование помещений организации социальной сферы и прилегающей к ней территории с учетом доступности для инвалидов | AD12: 3.2 Обеспечение в организации социальной сферы условий доступности, позволяющих инвалидам получать услуги наравне с другими | AG12: 3.3 Доля получателей услуг, удовлетворенных доступностью услуг для инвалидов | AJ12: 4.1 Доля получателей услуг, удовлетворенных доброжелательностью, вежливостью работников организации социальной сферы, обеспечивающих первичный контакт и информирование получателя услуги при непосредственном обращении в организацию социальной сферы | AM12: 4.2 Доля получателей услуг, удовлетворенных доброжелательностью, вежливостью работников организации социальной сферы, обеспечивающих непосредственное оказание услуги при обращении в организацию социальной сферы | AP12: 4.3 Доля получателей услуг, удовлетворенных доброжелательностью, вежливостью работников организации социальной сферы при использовании дистанционных форм взаимодействия | AS12: 5.1 Доля получателей услуг, которые готовы рекомендовать организацию социальной сферы родственникам и знакомым (могли бы ее рекомендовать, если бы была возможность выбора организации социальной сферы) | AV12: 5.2 Доля получателей услуг, удовлетворенных организационными условиями предоставления услуг | AY12: 5.3 Доля получателей услуг, удовлетворенных в целом условиями оказания услуг в организации социальной сферы
F13: 1.1.1 - Соответствие информации о деятельности организации социальной сферы, размещенной на информационных стендах в помещении организации социальной сферы, ее содержанию и порядку (форме), установленным нормативными правовыми актами. | I13: 1.1.2 - Соответствие информации о деятельности организации социальной сферы, размещенной на официальном сайте организации социальной сферы, ее содержанию и порядку (форме), установленным нормативными правовыми актами. | L13: 1.2.1 - Наличие и функционирование на официальном сайте организации информации о дистанционных способах взаимодействия с получателями услуг: телефона; электронной почты; электронных сервисов (форма для подачи электронного обращения (жалобы, предложения), получение консультации по оказываемым услугам и пр.); раздела «Часто задаваемые вопросы»; технической возможности выражения получателем услуг мнения о качестве условий оказания услуг организацией социальной сферы (наличие анкеты для опроса граждан или гиперссылки на нее); иного дистанционного способа взаимодействия. | O13: 1.3.1 - Удовлетворенность качеством, полнотой и доступностью информации о деятельности организации социальной сферы, размещенной на информационных стендах в помещении организации социальной сферы. | R13: 1.3.2 - Удовлетворенность качеством, полнотой и доступностью информации о деятельности организации социальной сферы, размещенной на официальном сайте организации социальной сферы в сети «Интернет». | U13: 2.1.1 - Наличие комфортных условий для предоставления услуг, например: наличие комфортной зоны отдыха (ожидания), оборудованной соответствующей мебелью; наличие и понятность навигации внутри организации социальной сферы; наличие и доступность питьевой воды; наличие и доступность санитарно-гигиенических помещений; санитарное состояние помещений организации социальной сферы; транспортная доступность (возможность доехать до организации социальной сферы на общественном транспорте, наличие парковки); доступность записи на получение услуги (по телефону, на официальном сайте организации социальной сферы в сети Интернет, посредством Единого портала государственных и муниципальных услуг, при личном посещении в регистратуре или у специалиста организации социальной сферы и пр.); иные параметры комфортных условий, установленные ведомственным актом уполномоченного федерального органа исполнительной власти. | X13: 2.3.1 - Удовлетворенность комфортностью предоставления услуг организацией социальной сферы. | AA13: 3.1.1 - Наличие в помещениях организации социальной сферы и на прилегающей к ней территории: оборудованных входных групп пандусами (подъемными платформами); выделенных стоянок для автотранспортных средств инвалидов; адаптированных лифтов, поручней, расширенных дверных проемов; сменных кресел-колясок; специально оборудованных санитарно-гигиенических помещений в организации социальной сферы. | AD13: 3.2.1 - Наличие в организации социальной сферы условий доступности, позволяющих инвалидам получать услуги наравне с другими: дублирование для инвалидов по слуху и зрению звуковой и зрительной информации; дублирование надписей, знаков и иной текстовой и графической информации знаками, выполненными рельефно-точечным шрифтом Брайля; возможность предоставления инвалидам по слуху (слуху и зрению) услуг сурдопереводчика (тифлосурдопереводчика); наличие альтернативной версии официального сайта организации социальной сферы в сети Интернет для инвалидов по зрению; помощь, оказываемая работниками организации социальной сферы, прошедшими необходимое обучение (инструктирование) по сопровождению инвалидов в помещениях организации социальной сферы и на прилегающей территории; наличие возможности предоставления услуги в дистанционном режиме или на дому. | AG13: 3.3.1 - Удовлетворенность доступностью услуг для инвалидов. | AJ13: 4.1.1 - Удовлетворенность доброжелательностью, вежливостью работников организации социальной сферы, обеспечивающих первичный контакт и информирование получателя услуги (работники справочной, приемного отделения, регистратуры, кассы и прочие работники) при непосредственном обращении в организацию социальной сферы. | AM13: 4.2.1 - Удовлетворенность доброжелательностью, вежливостью работников организации социальной сферы, обеспечивающих непосредственное оказание услуги (врачи, социальные работники, работники, осуществляющие экспертно-реабилитационную диагностику, преподаватели, тренеры, инструкторы, библиотекари, экскурсоводы и прочие работники) при обращении в организацию социальной сферы. | AP13: 4.3.1 - Удовлетворенность доброжелательностью, вежливостью работников организации социальной сферы при использовании дистанционных форм взаимодействия (по телефону, по электронной почте, с помощью электронных сервисов (подачи электронного обращения (жалобы, предложения), получения консультации по оказываемым услугам и пр.). | AS13: 5.1.1 - Готовность получателей услуг рекомендовать организацию социальной сферы родственникам и знакомым. | AV13: 5.2.1 - Удовлетворенность получателей услуг организационными условиями оказания услуг, например: наличием и понятностью навигации внутри организации социальной сферы; графиком работы организации социальной сферы (подразделения, отдельных специалистов, графиком прихода социального работника на дом и пр.). | AY13: 5.3.1 - Удовлетворенность получателей услуг в целом условиями оказания услуг в организации социальной сферы.
F14: Наименование индикатора | G14: Выполнение индикатора | I14: Наименование индикатора | J14: Выполнение индикатора | L14: Наименование индикатора | M14: Выполнение индикатора | O14: Наименование индикатора | P14: Выполнение индикатора | R14: Наименование индикатора | S14: Выполнение индикатора | U14: Наименование индикатора | V14: Выполнение индикатора | X14: Наименование индикатора | Y14: Выполнение индикатора | AA14: Наименование индикатора | AB14: Выполнение индикатора | AD14: Наименование индикатора | AE14: Выполнение индикатора | AG14: Наименование индикатора | AH14: Выполнение индикатора | AJ14: Наименование индикатора | AK14: Выполнение индикатора | AM14: Наименование индикатора | AN14: Выполнение индикатора | AP14: Наименование индикатора | AQ14: Выполнение индикатора | AS14: Наименование индикатора | AT14: Выполнение индикатора | AV14: Наименование индикатора | AW14: Выполнение индикатора | AY14: Наименование индикатора | AZ14: Выполнение индикатора
F15: отсутствует информация о деятельности организации социальной сферы | H15: 0 | I15: отсутствует информация о деятельности организации социальной сферы на ее официальном сайте | K15: 0 | L15: отсутствуют или не функционируют дистанционные способы взаимодействия | N15: 0 | O15: число получателей услуг, удовлетворенных качеством, полнотой и доступностью информации о деятельности организации социальной сферы, размещенной на информационных стендах в помещении организации социальной сферы по отношению к числу опрошенных получателей услуг, ответивших на соответствующий вопрос анкеты (Устенд) | P15: 0 | Q15: 100 | R15: число получателей услуг, удовлетворенных качеством, полнотой и доступностью информации о деятельности организации социальной сферы, размещенной на официальном сайте организации социальной сферы по отношению к числу опрошенных получателей услуг, ответивших на соответствующий вопрос анкеты (Усайт) | S15: 0 | T15: 100 | U15: отсутствуют комфортные условия | W15: 0 | X15: число получателей услуг, удовлетворенных комфортностью предоставления услуг организацией социальной сферы (Укомф), по отношению к числу опрошенных получателей услуг, ответивших на данный вопрос (Чобщ) | Y15: 0 | Z15: 100 | AA15: отсутствуют условия доступности для инвалидов | AC15: 0 | AD15: отсутствуют условия доступности, позволяющие инвалидам получать услуги наравне с другими | AF15: 0 | AG15: число получателей услуг-инвалидов, удовлетворенных доступностью услуг для инвалидов (Удост) , по отношению к числу опрошенных получателей услуг- инвалидов, ответивших на соответствующий вопрос анкеты (Чинв) | AH15: 0 | AI15: 100 | AJ15: число получателей услуг, удовлетворенных доброжелательностью, вежливостью работников организации социальной сферы, обеспечивающих первичный контакт и информирование получателя услуги (Уперв.конт), по отношению к числу опрошенных получателей услуг, ответивших на соответствующий вопрос анкеты ( Чобщ) | AK15: 0 | AL15: 100 | AM15: число получателей услуг, удовлетворенных доброжелательностью, вежливостью работников организации социальной сферы, обеспечивающих непосредственное оказание услуги (Уоказ.услуг), по отношению к числу опрошенных получателей услуг, ответивших на соответствующий вопрос анкеты ( Чобщ) | AN15: 0 | AO15: 100 | AP15: число получателей услуг, удовлетворенных доброжелательностью, вежливостью работников организации социальной сферы при использовании дистанционных форм взаимодействия (Увежл.дист), по отношению к числу опрошенных получателей услуг, ответивших на соответствующий вопрос анкеты (Чобщ) | AQ15: 0 | AR15: 100 | AS15: число получателей услуг, которые готовы рекомендовать организацию родственникам и знакомым (могли бы ее рекомендовать, если бы была возможность выбора организации) (Уреком), по отношению к числу опрошенных получателей услуг, ответивших на соответствующий вопрос анкеты (Чобщ) | AT15: 0 | AU15: 100 | AV15: число получателей услуг, удовлетворенных организационными условиями предоставления услуг (Уорг.усл), по отношению к числу опрошенных получателей услуг ответивших на соответствующий вопрос анкеты (Чобщ) | AW15: 0 | AX15: 100 | AY15: число получателей услуг, удовлетворенных в целом условиями оказания услуг в организации социальной сферы (Ууд), по отношению к числу опрошенных получателей услуг, ответивших на соответствующий вопрос анкеты (Чобщ) | AZ15: 0 | BA15: 100
F16: объем информации (количество материалов/единиц информации), размещенной на информационных стендах в помещении организации по отношению к количеству материалов, размещение которых установлено нормативными правовыми актами (Истенд) | H16: 100 | I16: объем информации (количество материалов/единиц информации), размещенной на официальном сайте организации по отношению к количеству материалов, размещение которых установлено нормативными правовыми актами (Исайт) | K16: 100 | L16: Количество функционирующих дистанционных способов взаимодействия (от одного до трех способов включительно) | N16: 30 | U16: количество комфортных условий для предоставления услуг | W16: 20 | AA16: количество условий доступности организации для инвалидов | AC16: 20 | AD16: количество условий доступности, позволяющих инвалидам получать услуги наравне с другими | AF16: 20
L17: в наличии и функционируют более трех дистанционных способов взаимодействия | N17: 100 | U17: наличие пяти и более комфортных условий для предоставления услуг | W17: 100 | AA17: наличие пяти и более условий доступности для инвалидов | AC17: 100 | AD17: наличие пяти и более условий доступности | AF17: 100
